BEGIN:VCALENDAR
VERSION:2.0
PRODID:-//IMHF - ECPv6.15.13//NONSGML v1.0//EN
CALSCALE:GREGORIAN
METHOD:PUBLISH
X-WR-CALNAME:IMHF
X-ORIGINAL-URL:https://imhf.org
X-WR-CALDESC:Events for IMHF
REFRESH-INTERVAL;VALUE=DURATION:PT1H
X-Robots-Tag:noindex
X-PUBLISHED-TTL:PT1H
BEGIN:VTIMEZONE
TZID:UTC
BEGIN:STANDARD
TZOFFSETFROM:+0000
TZOFFSETTO:+0000
TZNAME:UTC
DTSTART:20240101T000000
END:STANDARD
END:VTIMEZONE
BEGIN:VEVENT
DTSTART;TZID=UTC:20260123T090000
DTEND;TZID=UTC:20260123T150000
DTSTAMP:20260421T094237
CREATED:20250721T133528Z
LAST-MODIFIED:20250721T133634Z
UID:5169-1769158800-1769180400@imhf.org
SUMMARY:IMHF Quarterly Board Meeting
DESCRIPTION:
URL:https://imhf.org/event/imhf-quarterly-board-meeting-3/
LOCATION:Freemasons’ Hall\, 525 N Illinois Street\, PO Box 44210\, Indianapolis\, IN\, 46204\, United States
CATEGORIES:Board Meeting
ATTACH;FMTTYPE=image/jpeg:https://imhf.org/wp-content/uploads/2025/07/indiana-freemasons-hall-indianapolis-view-from-the-southwest.jpg
END:VEVENT
BEGIN:VEVENT
DTSTART;TZID=UTC:20251024T090000
DTEND;TZID=UTC:20251024T150000
DTSTAMP:20260421T094237
CREATED:20250721T133326Z
LAST-MODIFIED:20250721T133337Z
UID:5168-1761296400-1761318000@imhf.org
SUMMARY:IMHF Quarterly Board Meeting
DESCRIPTION:
URL:https://imhf.org/event/imhf-quarterly-board-meeting-2/
LOCATION:Freemasons’ Hall\, 525 N Illinois Street\, PO Box 44210\, Indianapolis\, IN\, 46204\, United States
CATEGORIES:Board Meeting
ATTACH;FMTTYPE=image/jpeg:https://imhf.org/wp-content/uploads/2025/07/indiana-freemasons-hall-indianapolis-view-from-the-southwest.jpg
END:VEVENT
BEGIN:VEVENT
DTSTART;TZID=UTC:20250725T090000
DTEND;TZID=UTC:20250725T150000
DTSTAMP:20260421T094237
CREATED:20250721T133108Z
LAST-MODIFIED:20250721T133124Z
UID:5165-1753434000-1753455600@imhf.org
SUMMARY:IMHF Quarterly Board Meeting
DESCRIPTION:
URL:https://imhf.org/event/imhf-quarterly-board-meeting/
LOCATION:Freemasons’ Hall\, 525 N Illinois Street\, PO Box 44210\, Indianapolis\, IN\, 46204\, United States
CATEGORIES:Board Meeting
ATTACH;FMTTYPE=image/jpeg:https://imhf.org/wp-content/uploads/2025/07/indiana-freemasons-hall-indianapolis-view-from-the-southwest.jpg
END:VEVENT
END:VCALENDAR